BEGIN:VCALENDAR
VERSION:2.0
PRODID:-//Center for Politics - ECPv5.7.1//NONSGML v1.0//EN
CALSCALE:GREGORIAN
METHOD:PUBLISH
X-WR-CALNAME:Center for Politics
X-ORIGINAL-URL:https://centerforpolitics.org
X-WR-CALDESC:Events for Center for Politics
BEGIN:VTIMEZONE
TZID:UTC
BEGIN:STANDARD
TZOFFSETFROM:+0000
TZOFFSETTO:+0000
TZNAME:UTC
DTSTART:20200101T000000
END:STANDARD
END:VTIMEZONE
BEGIN:VEVENT
DTSTART;TZID=UTC:20200407T153000
DTEND;TZID=UTC:20200407T163000
DTSTAMP:20210718T193814
CREATED:20200403T191231Z
LAST-MODIFIED:20200514T223318Z
UID:3928-1586273400-1586277000@centerforpolitics.org
SUMMARY:Front Row at The Trump Show
DESCRIPTION:Larry Sabato will interview ABC News Chief White House Correspondent\,  Jonathan Karl about his new book “Front Row at The Trump Show”.
URL:https://centerforpolitics.org/event/front-row-at-the-trump-show/
LOCATION:Livestream\, United States
ATTACH;FMTTYPE=image/jpeg:https://centerforpolitics.org/wp-content/uploads/2020/04/Front-Row.jpeg
ORGANIZER;CN="UVA%20Center%20for%20Politics":MAILTO:goodpolitics@virginia.edu
END:VEVENT
END:VCALENDAR