BEGIN:VCALENDAR
VERSION:2.0
PRODID:-//Center for Politics - ECPv5.7.1//NONSGML v1.0//EN
CALSCALE:GREGORIAN
METHOD:PUBLISH
X-WR-CALNAME:Center for Politics
X-ORIGINAL-URL:https://centerforpolitics.org
X-WR-CALDESC:Events for Center for Politics
BEGIN:VTIMEZONE
TZID:UTC
BEGIN:STANDARD
TZOFFSETFROM:+0000
TZOFFSETTO:+0000
TZNAME:UTC
DTSTART:20200101T000000
END:STANDARD
END:VTIMEZONE
BEGIN:VEVENT
DTSTART;TZID=UTC:20200302T183000
DTEND;TZID=UTC:20200302T200000
DTSTAMP:20210718T193631
CREATED:20200217T174113Z
LAST-MODIFIED:20200217T174153Z
UID:3807-1583173800-1583179200@centerforpolitics.org
SUMMARY:Pre-game: Super Tuesday
DESCRIPTION:Part of a Center for Politics Series Celebrating the Centennial of Women’s Suffrage  \n\n\n\nModerator \n\n\n\nHeather Caygle\, Congress reporter for POLITICO. \n\n\n\nPanel \n\n\n\nJocelyn Kiley\,\n  associate director of research at Pew Research Center\, where she \nprimarily works on U.S. public opinion about politics. She is involved \nin all stages of the research process at the Center\, and is a principal \ninvestigator on the Center’s work on political polarization in the \nAmerican public\, as well as its regular election polling. \n\n\n\nRohini Kosoglu\,\n senior advisor to U.S. Senator Kamala D. Harris\, having most recently \nserved as Chief of Staff to her presidential campaign\, Kamala Harris for\n the People and currently a Harvard Kennedy School IOP Fellow. \n\n\n\nTara Setmayer\,\n CNN Political Commentator\, ABC News Political Contributor\, former GOP \ncommunications director on Capitol Hill and currently a Harvard Kennedy \nSchool IOP Fellow. \n\n\n\nMara Suttman-Lea\, Assistant Professor of Government\, Connecticut College
URL:https://centerforpolitics.org/event/pre-game-super-tuesday/
LOCATION:Garrett Hall The Great Hall\, 235 McCormick Road\, Charlottesville\, Virginia\, 22903\, United States
ATTACH;FMTTYPE=image/png:https://centerforpolitics.org/wp-content/uploads/2020/02/Eventbrite-pic-Pregame.png
ORGANIZER;CN="UVA%20Center%20for%20Politics":MAILTO:info@centerforpolitics.org
END:VEVENT
END:VCALENDAR